BEGIN:VCALENDAR
VERSION:2.0
PRODID:-//ChamberMaster//Event Calendar 2.0//EN
METHOD:PUBLISH
X-PUBLISHED-TTL:P3D
REFRESH-INTERVAL:P3D
CALSCALE:GREGORIAN
BEGIN:VEVENT
DTSTART;VALUE=DATE:20260906
DTEND;VALUE=DATE:20260907
TRANSP:TRANSPARENT
X-MICROSOFT-CDO-ALLDAYEVENT:TRUE
SUMMARY:2026 Rumble in the Bay Sponsorship Opportunites
DESCRIPTION:Rev Up Your Business at the Rumble in the Bay Car Show! \n\nThis year\, we're shifting into high gear as we celebrate hardworking Vintage Farm Trucks   and we're offering incredible opportunities for your business to be part of the action!\n\nSponsorship and tent space are fantastic ways to connect with hundreds of car lovers\, locals\, and visitors. Gain exposure\, share your brand\, and be front and center at one of the most popular summer events in the Pacific Northwest. \n\nDon't miss this high-octane opportunity to drive your business forward while celebrating one of the most iconic vehicles in American history.\n\nRumble in the Bay takes place in the picturesque village of Bigfork\, Montana\, nestled along the shores of Flathead Lake. Each year\, we close down our charming main street\, Electric Avenue\, and welcome stunning cars\, trucks\, and motorcycles from near and far.\n\nCrowds arrive early to stroll the lineup\, enjoy food and drinks\, and admire the craftsmanship and passion behind every vehicle. This year's Mustang tribute is sure to draw even more spectators and car enthusiasts than ever before.\n\nSecure your space today   and get your business in front of the crowds at this unforgettable summer tradition!
X-ALT-DESC;FMTTYPE=text/html:<p data-end="216" data-start="151"><strong data-end="213" data-start="154">Rev Up Your Business at the Rumble in the Bay Car Show!</strong>&nbsp\;</p>\n\n<p data-end="407" data-start="218">This year\, we&rsquo\;re shifting into high gear as we celebrate hardworking Vintage Farm Trucks&nbsp\;&mdash\; and we&rsquo\;re offering incredible opportunities for your business to be part of the action!</p>\n\n<p data-end="650" data-start="409"><strong data-end="442" data-start="412">Sponsorship and tent space</strong> are fantastic ways to connect with hundreds of car lovers\, locals\, and visitors. Gain exposure\, share your brand\, and be front and center at one of the most popular summer events in the Pacific Northwest.&nbsp\;</p>\n\n<p data-end="797" data-start="652">Don&rsquo\;t miss this <strong data-end="695" data-start="668">high-octane opportunity</strong> to drive your business forward while celebrating one of the most iconic vehicles in American history.</p>\n\n<p data-end="1069" data-start="799"><strong data-end="820" data-start="799">Rumble in the Bay</strong> takes place in the picturesque village of <strong data-end="883" data-start="863">Bigfork\, Montana</strong>\, nestled along the shores of Flathead Lake. Each year\, we close down our charming main street\, <strong data-end="998" data-start="979">Electric Avenue</strong>\, and welcome stunning cars\, trucks\, and motorcycles from near and far.</p>\n\n<p data-end="1301" data-start="1071">Crowds arrive early to stroll the lineup\, enjoy food and drinks\, and admire the craftsmanship and passion behind every vehicle. This year&rsquo\;s Mustang tribute is sure to draw even more spectators and car enthusiasts than ever before.</p>\n\n<p data-end="1413" data-start="1303">Secure your space today &mdash\; and get your business in front of the crowds at this unforgettable summer tradition!</p>\n
LOCATION:
UID:e.3534.5509
SEQUENCE:3
DTSTAMP:20260421T123617Z
URL:https://business.bigfork.org/events/details/2026-rumble-in-the-bay-sponsorship-opportunites-5509
END:VEVENT

END:VCALENDAR
