BEGIN:VCALENDAR
VERSION:2.0
PRODID:-//ChamberMaster//Event Calendar 2.0//EN
METHOD:PUBLISH
X-PUBLISHED-TTL:P3D
REFRESH-INTERVAL:P3D
CALSCALE:GREGORIAN
BEGIN:VEVENT
DTSTART:20260906T130000Z
DTEND:20260906T220000Z
X-MICROSOFT-CDO-ALLDAYEVENT:FALSE
SUMMARY:2026 Rumble in the Bay Food Truck & Vendors
DESCRIPTION:If you are interested in setting up your food truck for the Rumble in the Bay in Bigfork please register here and we will be in touch as the event gets closer. \n\n	The food truck placement and details are not confirmed at this time.  This is simply a waiting list\n	Please include your phone number in the comments\n	You must be licensed and insured to serve food in Flathead County\n	You will be notified when details are finalized and your are officially invited to attend.  Preference is giving to members of the Bigfork Area Chamber of Commerce.
X-ALT-DESC;FMTTYPE=text/html:If you are interested in setting up your food truck for the Rumble in the Bay in Bigfork please register here and we will be in touch as the event gets closer.&nbsp\;\n<ul>\n	<li>The food truck placement and details are not confirmed at this time.&nbsp\; This is simply a waiting list</li>\n	<li>Please include your phone number in the comments</li>\n	<li>You must be licensed and insured to serve food in Flathead County</li>\n	<li>You will be notified when details are finalized and your are officially invited to attend.&nbsp\; Preference is giving to members of the Bigfork Area Chamber of Commerce.</li>\n</ul>\n
LOCATION:
UID:e.3534.5498
SEQUENCE:3
DTSTAMP:20260421T123616Z
URL:https://business.bigfork.org/events/details/2026-rumble-in-the-bay-food-truck-vendors-5498
END:VEVENT

END:VCALENDAR
