BEGIN:VCALENDAR
VERSION:2.0
PRODID:-//ChamberMaster//Event Calendar 2.0//EN
METHOD:PUBLISH
X-PUBLISHED-TTL:P3D
REFRESH-INTERVAL:P3D
CALSCALE:GREGORIAN
BEGIN:VEVENT
DTSTART:20260906T160000Z
DTEND:20260906T230000Z
X-MICROSOFT-CDO-ALLDAYEVENT:FALSE
SUMMARY:2026 Rumble in the Bay
DESCRIPTION:Rumble in the Bay is celebrating hardworking Vintage Farm Trucks\n\nGet ready to rev your engines! Rumble in the Bay is one of the most anticipated car shows of the summer in the Pacific Northwest   and this year\, we're putting the spotlight on a true American classic: Vintage Farm Trucks!\n\nSet in the scenic village of Bigfork\, Montana   right on the shores of Flathead Lake   Rumble in the Bay transforms our charming downtown into a celebration of horsepower and history. Electric Avenue will be closed to traffic as classic cars\, trucks\, and motorcycles take center stage. Whether you're showing off your ride or just soaking in the nostalgia\, there's something for everyone.\n\nSpectators can stroll the streets\, grab a bite\, enjoy a drink\, and admire the incredible vehicles that roll in from across the region.\n\nVehicle Registration Details:\n\n\n	\n	Preregistration: $25 through Friday\, September 4th\n	\n	\n	Late/Day-of Registration: $40\n	\n	\n	Lineup: First come\, first served   no space holding\n	\n	\n	Want to park with friends or a club? Arrive together!\n	\n	\n	Rain or shine   no refunds\n	\n\n\nDon't miss this tribute to the car that defined a generation   and the summer car show that keeps getting better every year.
X-ALT-DESC;FMTTYPE=text/html:<p data-end="217" data-start="152"><strong data-end="217" data-start="152">Rumble in the Bay is celebrating hardworking Vintage Farm Trucks</strong></p>\n\n<p data-end="508" data-start="219">Get ready to rev your engines! Rumble in the Bay is one of the most anticipated car shows of the summer in the Pacific Northwest &mdash\; and this year\, we&rsquo\;re putting the spotlight on a true American classic: Vintage Farm Trucks!</p>\n\n<p data-end="898" data-start="510">Set in the scenic village of Bigfork\, Montana &mdash\; right on the shores of Flathead Lake &mdash\; Rumble in the Bay transforms our charming downtown into a celebration of horsepower and history. Electric Avenue will be closed to traffic as classic cars\, trucks\, and motorcycles take center stage. Whether you&#39\;re showing off your ride or just soaking in the nostalgia\, there&rsquo\;s something for everyone.</p>\n\n<p data-end="1034" data-start="900">Spectators can stroll the streets\, grab a bite\, enjoy a drink\, and admire the incredible vehicles that roll in from across the region.</p>\n\n<p data-end="1071" data-start="1036"><strong data-end="1069" data-start="1036">Vehicle Registration Details:</strong></p>\n\n<ul data-end="1321" data-start="1072">\n	<li data-end="1128" data-start="1072">\n	<p data-end="1128" data-start="1074"><strong data-end="1094" data-start="1074">Preregistration:</strong> $25 through Friday\, September 4th</p>\n	</li>\n	<li data-end="1166" data-start="1129">\n	<p data-end="1166" data-start="1131"><strong data-end="1160" data-start="1131">Late/Day-of Registration:</strong> $40</p>\n	</li>\n	<li data-end="1226" data-start="1167">\n	<p data-end="1226" data-start="1169"><strong data-end="1180" data-start="1169">Lineup:</strong> First come\, first served &mdash\; no space holding</p>\n	</li>\n	<li data-end="1288" data-start="1227">\n	<p data-end="1288" data-start="1229">Want to park with friends or a club? <strong data-end="1286" data-start="1266">Arrive together!</strong></p>\n	</li>\n	<li data-end="1321" data-start="1289">\n	<p data-end="1321" data-start="1291"><strong data-end="1321" data-start="1291">Rain or shine &mdash\; no refunds</strong></p>\n	</li>\n</ul>\n\n<p data-end="1447" data-start="1323">Don&rsquo\;t miss this tribute to the car that defined a generation &mdash\; and the summer car show that keeps getting better every year.</p>\n
LOCATION:
UID:e.3534.5508
SEQUENCE:3
DTSTAMP:20260421T154956Z
URL:https://business.bigfork.org/events/details/2026-rumble-in-the-bay-5508
END:VEVENT

END:VCALENDAR
